BEGIN:VCALENDAR
VERSION:2.0
PRODID:-//Pirates Baseball - ECPv6.9.1//NONSGML v1.0//EN
CALSCALE:GREGORIAN
METHOD:PUBLISH
X-ORIGINAL-URL:https://www.piratesbaseball.ca
X-WR-CALDESC:Events for Pirates Baseball
REFRESH-INTERVAL;VALUE=DURATION:PT1H
X-Robots-Tag:noindex
X-PUBLISHED-TTL:PT1H
BEGIN:VTIMEZONE
TZID:UTC
BEGIN:STANDARD
TZOFFSETFROM:+0000
TZOFFSETTO:+0000
TZNAME:UTC
DTSTART:20250101T000000
END:STANDARD
END:VTIMEZONE
BEGIN:VEVENT
DTSTART;TZID=UTC:20250302T133000
DTEND;TZID=UTC:20250302T143000
DTSTAMP:20260421T121359
CREATED:20250201T032236Z
LAST-MODIFIED:20250201T032236Z
UID:3673-1740922200-1740925800@www.piratesbaseball.ca
SUMMARY:Edmonton Little League 10U Hitting Camp
DESCRIPTION:This camp is the perfect complement to the skills development camp.  In order to maintain small group sizes and ideal instructor-student ratios\, spaces are very limited. \nCost $80 \nThe camp runs for 4 weeks\, February 16th through March 9th.\nMinors (10U) – 1:30 – 2:30 p.m.\nMajors (12U) – 2:30 – 3:30 pm \nRegister here: \nhttps://app.teamlinkt.com/register/find/baseballedmonton
URL:https://www.piratesbaseball.ca/event/edmonton-little-league-10u-hitting-camp-3/
LOCATION:Kinsmen Sports Centre Field House\, 9100 Walterdale Hill\, Edmonton\, Alberta\, T6E 2V3\, Canada
CATEGORIES:District 2 Camps
END:VEVENT
BEGIN:VEVENT
DTSTART;TZID=UTC:20250302T143000
DTEND;TZID=UTC:20250302T153000
DTSTAMP:20260421T121359
CREATED:20250201T032940Z
LAST-MODIFIED:20250201T032940Z
UID:3682-1740925800-1740929400@www.piratesbaseball.ca
SUMMARY:Edmonton Little League 12U Hitting Camp
DESCRIPTION:This camp is the perfect complement to the skills development camp.  In order to maintain small group sizes and ideal instructor-student ratios\, spaces are very limited. \nCost $80 \nThe camp runs for 4 weeks\, February 16th through March 9th.\nMinors (10U) – 1:30 – 2:30 p.m.\nMajors (12U) – 2:30 – 3:30 pm \nRegister here: \nhttps://app.teamlinkt.com/register/find/baseballedmonton
URL:https://www.piratesbaseball.ca/event/edmonton-little-league-12u-hitting-camp-3/
LOCATION:Kinsmen Sports Centre Field House\, 9100 Walterdale Hill\, Edmonton\, Alberta\, T6E 2V3\, Canada
CATEGORIES:District 2 Camps
END:VEVENT
BEGIN:VEVENT
DTSTART;TZID=UTC:20250309T133000
DTEND;TZID=UTC:20250309T143000
DTSTAMP:20260421T121359
CREATED:20250201T032406Z
LAST-MODIFIED:20250201T032406Z
UID:3675-1741527000-1741530600@www.piratesbaseball.ca
SUMMARY:Edmonton Little League 10U Hitting Camp
DESCRIPTION:This camp is the perfect complement to the skills development camp.  In order to maintain small group sizes and ideal instructor-student ratios\, spaces are very limited. \nCost $80 \nThe camp runs for 4 weeks\, February 16th through March 9th.\nMinors (10U) – 1:30 – 2:30 p.m.\nMajors (12U) – 2:30 – 3:30 pm \nRegister here: \nhttps://app.teamlinkt.com/register/find/baseballedmonton
URL:https://www.piratesbaseball.ca/event/edmonton-little-league-10u-hitting-camp-4/
LOCATION:Kinsmen Sports Centre Field House\, 9100 Walterdale Hill\, Edmonton\, Alberta\, T6E 2V3\, Canada
CATEGORIES:District 2 Camps
END:VEVENT
BEGIN:VEVENT
DTSTART;TZID=UTC:20250309T143000
DTEND;TZID=UTC:20250309T153000
DTSTAMP:20260421T121359
CREATED:20250201T033039Z
LAST-MODIFIED:20250201T033039Z
UID:3684-1741530600-1741534200@www.piratesbaseball.ca
SUMMARY:Edmonton Little League 12U Hitting Camp
DESCRIPTION:This camp is the perfect complement to the skills development camp.  In order to maintain small group sizes and ideal instructor-student ratios\, spaces are very limited. \nCost $80 \nThe camp runs for 4 weeks\, February 16th through March 9th.\nMinors (10U) – 1:30 – 2:30 p.m.\nMajors (12U) – 2:30 – 3:30 pm \nRegister here: \nhttps://app.teamlinkt.com/register/find/baseballedmonton
URL:https://www.piratesbaseball.ca/event/edmonton-little-league-12u-hitting-camp-4/
LOCATION:Kinsmen Sports Centre Field House\, 9100 Walterdale Hill\, Edmonton\, Alberta\, T6E 2V3\, Canada
CATEGORIES:District 2 Camps
END:VEVENT
END:VCALENDAR