BEGIN:VCALENDAR
VERSION:2.0
PRODID:-//Pirates Baseball - ECPv6.9.1//NONSGML v1.0//EN
CALSCALE:GREGORIAN
METHOD:PUBLISH
X-WR-CALNAME:Pirates Baseball
X-ORIGINAL-URL:https://www.piratesbaseball.ca
X-WR-CALDESC:Events for Pirates Baseball
REFRESH-INTERVAL;VALUE=DURATION:PT1H
X-Robots-Tag:noindex
X-PUBLISHED-TTL:PT1H
BEGIN:VTIMEZONE
TZID:UTC
BEGIN:STANDARD
TZOFFSETFROM:+0000
TZOFFSETTO:+0000
TZNAME:UTC
DTSTART:20250101T000000
END:STANDARD
END:VTIMEZONE
BEGIN:VEVENT
DTSTART;TZID=UTC:20250406T134500
DTEND;TZID=UTC:20250406T151500
DTSTAMP:20260424T084128
CREATED:20250225T022341Z
LAST-MODIFIED:20250225T031608Z
UID:3798-1743947100-1743952500@www.piratesbaseball.ca
SUMMARY:Minor/Major District 2 Player Evaluations
DESCRIPTION:Day 2 of Edmonton Little League District 2 Player Evaluations. \nThis day has two sessions available: \nMinor/Major\n1:45 – 3:15 pm \nJunior/Senior\n3:30 – 5:00 pm \nPlease CLICK HERE for more details on these MANDATORY player evaluations.
URL:https://www.piratesbaseball.ca/event/minor-major-district-2-player-evaluations/
LOCATION:Kinsmen Sports Centre Field House\, 9100 Walterdale Hill\, Edmonton\, Alberta\, T6E 2V3\, Canada
CATEGORIES:Evaluations
END:VEVENT
BEGIN:VEVENT
DTSTART;TZID=UTC:20250406T153000
DTEND;TZID=UTC:20250406T170000
DTSTAMP:20260424T084128
CREATED:20250225T022509Z
LAST-MODIFIED:20250225T022509Z
UID:3800-1743953400-1743958800@www.piratesbaseball.ca
SUMMARY:Junior/Senior District 2 Player Evaluations
DESCRIPTION:Day 2 of Edmonton Little League District 2 Player Evaluations. \nThis day has two sessions available: \nMinor/Major\n1:45 – 3:15 pm \nJunior/Senior\n3:30 – 5:00 pm \nPlease CLICK HERE for more details on these MANDATORY player evaluations.
URL:https://www.piratesbaseball.ca/event/junior-senior-district-2-player-evaluations/
LOCATION:Kinsmen Sports Centre Field House\, 9100 Walterdale Hill\, Edmonton\, Alberta\, T6E 2V3\, Canada
CATEGORIES:Evaluations
END:VEVENT
END:VCALENDAR