BEGIN:VCALENDAR
VERSION:2.0
PRODID:-//Pirates Baseball - ECPv6.9.1//NONSGML v1.0//EN
CALSCALE:GREGORIAN
METHOD:PUBLISH
X-WR-CALNAME:Pirates Baseball
X-ORIGINAL-URL:https://www.piratesbaseball.ca
X-WR-CALDESC:Events for Pirates Baseball
REFRESH-INTERVAL;VALUE=DURATION:PT1H
X-Robots-Tag:noindex
X-PUBLISHED-TTL:PT1H
BEGIN:VTIMEZONE
TZID:UTC
BEGIN:STANDARD
TZOFFSETFROM:+0000
TZOFFSETTO:+0000
TZNAME:UTC
DTSTART:20240101T000000
END:STANDARD
TZID:America/Edmonton
BEGIN:DAYLIGHT
TZOFFSETFROM:-0700
TZOFFSETTO:-0600
TZNAME:MDT
DTSTART:20230312T090000
END:DAYLIGHT
BEGIN:STANDARD
TZOFFSETFROM:-0600
TZOFFSETTO:-0700
TZNAME:MST
DTSTART:20231105T080000
END:STANDARD
END:VTIMEZONE
BEGIN:VEVENT
DTSTART;VALUE=DATE:20240217
DTEND;VALUE=DATE:20240218
DTSTAMP:20260421T021606
CREATED:20240219T022038Z
LAST-MODIFIED:20240219T022038Z
UID:2661-1708128000-1708214399@www.piratesbaseball.ca
SUMMARY:2024 Spring Season Registration Now Open
DESCRIPTION:Registration for the 2024 spring baseball season is now open! \nRegister here: https://communityparklittleleague.sportngin.com/register/form/461833261 \nRegistration closes April 12th.
URL:https://www.piratesbaseball.ca/event/2024-spring-season-registration-now-open/
LOCATION:AB
END:VEVENT
BEGIN:VEVENT
DTSTART;TZID=America/Edmonton:20230604T090000
DTEND;TZID=America/Edmonton:20230604T120000
DTSTAMP:20260421T021606
CREATED:20230405T212856Z
LAST-MODIFIED:20230406T015053Z
UID:2548-1685869200-1685880000@www.piratesbaseball.ca
SUMMARY:Team Building Bottle Drive & BBQ/Sandlot Games
DESCRIPTION:We’re always looking for ways to keep the costs of baseball down. One of the ways we do this is by organizing bottle drives for each team with a designated drop off point for the collected bottles. We must note that this does not cover the volunteer fee as we have many other activities to cover this. \nAfter\, can all head to the Kirkness Diamonds for a BBQ and some sandlot games for our young players. This will also be a good opportunity for our parents to put their gloves and show their young ones how it’s done.
URL:https://www.piratesbaseball.ca/event/team-building-bottle-drive-bbq-sandlot-games/
LOCATION:AB
END:VEVENT
BEGIN:VEVENT
DTSTART;TZID=America/Edmonton:20230523T080000
DTEND;TZID=America/Edmonton:20230526T170000
DTSTAMP:20260421T021606
CREATED:20230405T213511Z
LAST-MODIFIED:20230406T015120Z
UID:2551-1684828800-1685120400@www.piratesbaseball.ca
SUMMARY:Team Pictures
DESCRIPTION:
URL:https://www.piratesbaseball.ca/event/team-pictures/
LOCATION:MVP Sports Team Photos\, 16678 114 Ave\, Edmonton\, AB\, T5M 3R8\, Canada
END:VEVENT
BEGIN:VEVENT
DTSTART;TZID=America/Edmonton:20230506T183000
DTEND;TZID=America/Edmonton:20230506T210000
DTSTAMP:20260421T021606
CREATED:20230405T204521Z
LAST-MODIFIED:20230406T015031Z
UID:2540-1683397800-1683406800@www.piratesbaseball.ca
SUMMARY:Silent Auction
DESCRIPTION:Join us for our silent auction at Average Joe’s in Sherwood Park. All proceeds will help cover the costs to run our great Community Park Baseball Little League.
URL:https://www.piratesbaseball.ca/event/silent-auction/
LOCATION:Average Joe’s – 390 Baseline Rd #240\, Sherwood Park\, AB T8H 2H8\, 390 Baseline Rd #240\, Sherwood Park\, AB\, T8H 2H8\, Canada
ORGANIZER;CN="Kyla Yarkowski":MAILTO:kyla@piratesbaseball.ca
END:VEVENT
END:VCALENDAR