BEGIN:VCALENDAR
VERSION:2.0
PRODID:-//Pirates Baseball - ECPv6.9.1//NONSGML v1.0//EN
CALSCALE:GREGORIAN
METHOD:PUBLISH
X-ORIGINAL-URL:https://www.piratesbaseball.ca
X-WR-CALDESC:Events for Pirates Baseball
REFRESH-INTERVAL;VALUE=DURATION:PT1H
X-Robots-Tag:noindex
X-PUBLISHED-TTL:PT1H
BEGIN:VTIMEZONE
TZID:America/Edmonton
BEGIN:DAYLIGHT
TZOFFSETFROM:-0700
TZOFFSETTO:-0600
TZNAME:MDT
DTSTART:20240310T090000
END:DAYLIGHT
BEGIN:STANDARD
TZOFFSETFROM:-0600
TZOFFSETTO:-0700
TZNAME:MST
DTSTART:20241103T080000
END:STANDARD
END:VTIMEZONE
BEGIN:VEVENT
DTSTART;TZID=America/Edmonton:20240412T183000
DTEND;TZID=America/Edmonton:20240412T203000
DTSTAMP:20260425T122907
CREATED:20240323T201807Z
LAST-MODIFIED:20240323T201807Z
UID:2904-1712946600-1712953800@www.piratesbaseball.ca
SUMMARY:Boys Baseball Skills & Drills Mini Camp
DESCRIPTION:*THIS IS A 3-WEEK COURSE THAT IS 6 CLASSES* \nCamp runs Thursdays 6:00-8:00 & Fridays 6:30-8:30\, April 4-19 \nGear up for the ball season with this boys mini camp! \nIn partnership with The Edmonton Garrison & The Edmonton Riverhawks\, this mini camp will provide detailed instruction for aspiring pitchers\, catchers\, infielders\, outfielders\, etc. \nOur Boys Mini Camp Baseball Program is a youth program that teaches athletic skills and supports physical and personal development. Our fun\, action-packed programs empower children through the sport of baseball. \nWhat to expect? \n– Our 2-hour programs are action packed with hitting\, throwing\, catching\, movement\, and agility drills\n– Modified games that are age-appropriate\, simple and FUN\n– Curriculum developed by CPLL\n– All of our programs are safe\, fun\, and age appropriate for all skill levels
URL:https://www.piratesbaseball.ca/event/boys-baseball-skills-drills-mini-camp-4/
LOCATION:Edmonton Garrison Fitness Centre\, 185 Hwy 28A\, Lancaster Park\, Alberta\, T0A 2H0\, Canada
CATEGORIES:Camps,Spring Camps
END:VEVENT
END:VCALENDAR